BEGIN:VCALENDAR
VERSION:2.0
PRODID:-//Estudios Contemplativos - ECPv6.2.0.1//NONSGML v1.0//EN
CALSCALE:GREGORIAN
METHOD:PUBLISH
X-WR-CALNAME:Estudios Contemplativos
X-ORIGINAL-URL:https://www.estudioscontemplativos.com
X-WR-CALDESC:Eventos para Estudios Contemplativos
REFRESH-INTERVAL;VALUE=DURATION:PT1H
X-Robots-Tag:noindex
X-PUBLISHED-TTL:PT1H
BEGIN:VTIMEZONE
TZID:Europe/Paris
BEGIN:DAYLIGHT
TZOFFSETFROM:+0100
TZOFFSETTO:+0200
TZNAME:CEST
DTSTART:20160327T010000
END:DAYLIGHT
BEGIN:STANDARD
TZOFFSETFROM:+0200
TZOFFSETTO:+0100
TZNAME:CET
DTSTART:20161030T010000
END:STANDARD
END:VTIMEZONE
BEGIN:VEVENT
DTSTART;TZID=Europe/Paris:20160209T173000
DTEND;TZID=Europe/Paris:20160320T183000
DTSTAMP:20260421T143723
CREATED:20160108T122508Z
LAST-MODIFIED:20160403T060647Z
UID:4033-1455039000-1458498600@www.estudioscontemplativos.com
SUMMARY:NEUROCIENCIA DE LAS EMOCIONES DIFICILES. BARCELONA
DESCRIPTION:Inicio el   EL 3 de febrero  al 13 de abril\, programa en presencia y a distancia de 8 semanas. \n¿Cuáles son las 7 emociones que no podemos cambiar en nuestro cerebro? \nDeseo\, ira\, miedo\, tristeza\, celos\, avaricia y amor. \n¿ A que se debe que a pesar de mejores intentos\, nos sintamos profundamente fuera de control e insatisfechos con ellas?. Vamos a explorar durante 8 semanas\, el valor de conocer las EMOCIONES DIFICILES desde la perspectiva neurocientifica. Esta exploración tiene valor tanto psicoeducativo\, como para desvelarnos el profundo y sorprendete secreto que otorga el conocer sus mecanismos: libertad y plenitud \n\nNeurociencia de las Emociones Dificiles.\nBarcelona\nMiercoles de 17.30 a 18.30 h horas\nPrecio: 60 euros\, distancia o presencia\nLas plazas estan sujetas a disponibilidad\, y se atiende por riguroso orden de matricula. \n\nDescripción\nEste curso especial ofrece un trabajo neurocientifico práctico comprensivo sobre como entender\, tratar y comprender tus emociones más dificiles; explicandolo desde una mirada compasiva y sabia. El curso incluye textos de los principales autores en materia de neurociencia de las emociones dificiles y sus ultimos avances. \nmás información \n 
URL:https://www.estudioscontemplativos.com/event/neurociencia-las-emociones-dificiles-barcelona-2016-02-09/
LOCATION:Estudios Contemplativos\, Rambla Cataluña 49-51 Principal 1\, Barcelona\, 08007
CATEGORIES:NEUROCIENCIA EVENTO,ON LINE EVENTOS,NEUROCEINCIA EMOCIONES DIFICILES,Especiales
ATTACH;FMTTYPE=image/jpeg:https://www.estudioscontemplativos.com/wp-content/uploads/2015/06/emociones-dificiles1_n.jpg
END:VEVENT
BEGIN:VEVENT
DTSTART;TZID=Europe/Paris:20160319T100000
DTEND;TZID=Europe/Paris:20160319T190000
DTSTAMP:20260421T143723
CREATED:20160223T191037Z
LAST-MODIFIED:20160223T191831Z
UID:3912-1458381600-1458414000@www.estudioscontemplativos.com
SUMMARY:SEMINARIO: TU MARCA ERES TÚ
DESCRIPTION:Barcelona Sábado 19 de Marzo 2016 \nComo decía Oscar Wilde\, “Sé tú mismo\, los demás puestos ya están ocupados”. Aprende a ofrecer lo mejor de ti\, tu mejor cara y potencia tu marca personal. Todos tenemos talentos que nos hacen únicos e irrepetibles y éstos son la llave para lograr lo que nos propongamos. Tener una marca personal relevante te permite ser tenido en cuenta\, generar confianza y convertirte en la opción preferente. \nEl hecho de construir tu propio plan de marca personal te ayudará a tener un plan de ruta para estar enfocado en lo que de verdad importa y tomar las riendas de tu estrategia personal. \n  \nOBJETIVOS: \n\nMeditar y definir tus objetivos personales\, así como un plan de acción para lograrlos\nConcretar tus talentos y habilidades diferenciales para construir tu propuesta de valor\nCrear tu propio mensaje para comunicar lo qué haces y porqué eres diferente\nAlinear tu imagen personal y tu imagen pública con tus objetivos\nConocer las herramientas de promoción offline y online para potenciar tu visibilidad\n\nDocente: \nLAIA ARCONES. Especialista en estrategia de marca y comunicación. Autora del blog de marca personal www.estrellasdelmarketing.com. Ha trabajado en departamentos de marketing de empresas como CaixaBank\, Grupo Planeta\, Groupe Seb y Danone. Comunicadora avanzada de Toastmasters International. \nLugar :C/ Rambla Cataluña 49 principal 1ª Barcelona. Estudios Contemplativos. \nDia Sábado 19 de Marzo \nHorarioDe 10h a 14h y de 15h a 19h \nPrecio: 40€ \nLas plazas están sujetas a disponibilidad\, y se atiende por riguroso orden de matrícula. \nInformación e inscripciones en info@estudioscontemplativos.com telf 674091258 \n  \n  \n 
URL:https://www.estudioscontemplativos.com/event/seminario-tu-marca-eres-tu/
LOCATION:Estudios Contemplativos\, Rambla Cataluña 49-51 Principal 1\, Barcelona\, 08007
CATEGORIES:Conferencia evento,TALLERES EVENTOS
ATTACH;FMTTYPE=image/jpeg:https://www.estudioscontemplativos.com/wp-content/uploads/2016/02/Laia.jpg
ORGANIZER;CN="Estudios%20Contemplativos":MAILTO:info@estudioscontemplativos.com
END:VEVENT
END:VCALENDAR