BEGIN:VCALENDAR
VERSION:2.0
PRODID:-//Estudios Contemplativos - ECPv6.2.0.1//NONSGML v1.0//EN
CALSCALE:GREGORIAN
METHOD:PUBLISH
X-ORIGINAL-URL:https://www.estudioscontemplativos.com
X-WR-CALDESC:Eventos para Estudios Contemplativos
REFRESH-INTERVAL;VALUE=DURATION:PT1H
X-Robots-Tag:noindex
X-PUBLISHED-TTL:PT1H
BEGIN:VTIMEZONE
TZID:Europe/Paris
BEGIN:DAYLIGHT
TZOFFSETFROM:+0100
TZOFFSETTO:+0200
TZNAME:CEST
DTSTART:20160327T010000
END:DAYLIGHT
BEGIN:STANDARD
TZOFFSETFROM:+0200
TZOFFSETTO:+0100
TZNAME:CET
DTSTART:20161030T010000
END:STANDARD
END:VTIMEZONE
BEGIN:VEVENT
DTSTART;TZID=Europe/Paris:20161025T100000
DTEND;TZID=Europe/Paris:20161025T100000
DTSTAMP:20260421T125846
CREATED:20161014T120928Z
LAST-MODIFIED:20161014T121046Z
UID:26051-1477389600-1477389600@www.estudioscontemplativos.com
SUMMARY:NEMET: MINDFULNESS Y DERECHO.   PROGRAMA ON LINE
DESCRIPTION:MINDFULNESS Y DERECHO \nLos juristas se posicionan a sí mismos en las primeras líneas de las batallas personal\, moral\, ética y cultural. Su trabajo les posiciona directamente entre el conflicto y la hostilidad.\nComo en la medicina\, los negocios y las otras profesiones\, el éxito en el Derecho requiere mucho más que la habilidad de entender\, aplicar y articular el Derecho. También requiere la habilidad de actuar en ambientes difíciles y frecuentemente con mucha presión; trabajar efectivamente con otros\, incluyendo clientes\, compañeros y trabajadores; y liderar en situaciones de conflicto e incertidumbre. Estas tareas requieren un conjunto separado de habilidades que durante mucho tiempo ha sido altamente apreciado en la profesión legal\, pero no formalmente enseñado en las facultades de Derecho o cultivado en la práctica. El pensamiento era que\, o bien tenías estas habilidades\, o bien no las tenías.\nNo obstante\, una búsqueda continua en psicología y negocios ha evidenciado no sólo la importancia de estas habilidades para el éxito profesional\, sino también para la felicidad personal que puede ser tan evasiva en las profesiones – especialmente en la profesión legal. También ha confirmado que estas habilidades no son simplemente innatas\, sino que pueden ser aprendidas\, practicadas y perfeccionadas. Estas habilidades son conocidas como “inteligencia emocional”\, y vistas como un complemento necesario para la inteligencia cognitiva.\nTodavía\, ser un jurista o un funcionario público verdaderamente efectivo\, requiere una gran compostura y claridad. ¿Cómo pueden ellos ser apasionados y agresivos\, mientras se mantienen frescos\, calmados y serenos? ¿Y cómo pueden hacer esto\, mientras protegen su bienestar y el de sus clientes\, comunidades y sociedad?\nUna palabra: Neurociencia\, Mindfulness Esencial y Entrenamiento Emocional para la Mente Legal y Ética (“NEMET”) \n¿Qué es NEMET? \nEs un entrenamiento simple y poderoso de 8 sesiones\, diseñado específicamente para profesionales legales. Es una exploración de la mente legal\, un entrenamiento para usar la mente como un laboratorio\, para entender cualquier estado de mente en el que nos encontramos\, y luego cultivar el estado de mente más efectivo para cada circunstancia.\nOfrecemos una oportunidad para los juristas de estudiar NEMET\, compañeros las mentes de los cuales están entrenadas de maneras similares y que comparten conocimientos básicos en la mente legal. Los juristas que emprenden este entrenamiento llegan a entender mejor cómo funciona la mente legal y cómo cultivar estados de mente que apoyen y mejoren la efectividad y el bienestar. \nDevienen más poderosos que sus compañeros desatentos (unmindful). Ellos pueden influenciar más positivamente en sus casos\, clientes\, compañeros y comunidad. Y pueden tomar mejores decisiones y más impactantes.\n¿Cómo? \nEn el curso NEMET\, estudiaremos los elementos y la estructura de la Neurociencia y la Inteligencia Emocional\, y cómo aplicarlo a nuestro trabajo y nuestra vida como profesionales del Derecho. Esto incluye específicamente fomentar un gran sentido de auto-conocimiento de nuestros terrenos cognitivo y emocional\, y el desarrollo de habilidades y estrategias para gestionarlos efectivamente. A partir de esta base\, también fortaleceremos el conocimiento de nosotros mismos en las relaciones con otros\, y así poder manejar estas relaciones de una manera constructiva\, productiva y auténtica. Finalmente\, esperamos que hayáis obtenido el conocimiento y habilidades necesarias para ser efectivos\, exitosos y felices en vuestro trabajo y vidas como profesionales del Derecho.\n¿A quién va dirigido? \nProfesionales del mundo del Derecho\, desde estudiantes y profesores de Derecho\, abogados y mediadores\, hasta jueces\, magistrados y funcionarios públicos. \n¿Quiénes somos? \nCharles Halpern Ph. D. Catedratico emérito de Derecho de la Universidad de Berckley. California.\nCintia Pinel. Licenciada en Derecho\, coordinadora del programa Mindfulness y Derecho en Estudios Contemplativos.\nKoncha Pinós – Ph.D. Directora de Estudios Contemplativos\, Neurocientifca en el ambito de la empatia\, compasión y altruismo.\nJosé María Márquez Jurado (Gopala). Gerente del Consejo General del Poder Judicial.\nRichard J. Davidson- Ph.D. Director y fundador de Healthy Minds\, Universidad de Wisconsin- Madison. Neurocientifico. \n¿Cuándo? \nEl curso se encontrará disponible online a partir del día 25 de octubre de 2016. \n¿Dónde? \nNos encontrarás en la siguiente dirección: \nRambla de Catalunya\, 49-51\, ppal. 1ª\n08007 Barcelona \nSi estás interesado/a o quieres recibir más información al respecto\, por favor\, llámanos al 674.091.258 o bien escríbenos a info@estudioscontemplativos.com o educacion@estudioscontemplativos.com
URL:https://www.estudioscontemplativos.com/event/nemet-mindfulness-derecho-programa-on-line/
CATEGORIES:ON LINE EVENTOS,MINDFULNESS MBCT EVENTOS
ATTACH;FMTTYPE=image/jpeg:https://www.estudioscontemplativos.com/wp-content/uploads/2016/10/Colegio-Abogados-Barcelona.jpg
ORGANIZER;CN="Estudios%20Contemplativos":MAILTO:info@estudioscontemplativos.com
END:VEVENT
END:VCALENDAR